BEGIN:VCALENDAR
VERSION:2.0
CALSCALE:GREGORIAN
BEGIN:VEVENT
DTSTAMP:20260420T093928
DTSTART:20231002T123000
DTEND:20231008T203000
SUMMARY:5 Wine  Food PAIRING MISTAKES That Can RUIN Your Dinner ;)
DESCRIPTION:Event Info: https://www.localwineevents.com/view/class/5-wine-food-pairing-mistakes-that-can-ruin-your-dinner-/837027
LOCATION:
STATUS:CONFIRMED
SEQUENCE:0
TRANSP:OPAQUE
END:VEVENT
END:VCALENDAR
