BEGIN:VCALENDAR
VERSION:2.0
CALSCALE:GREGORIAN
BEGIN:VEVENT
DTSTAMP:20260420T093929
DTSTART:20230927T170000
DTEND:20231011T180000
SUMMARY:Build A Wine Business Around Your Passion
DESCRIPTION:Event Info: https://www.localwineevents.com/view/class/build-a-wine-business-around-your-passion/836798
LOCATION:
STATUS:CONFIRMED
SEQUENCE:0
TRANSP:OPAQUE
END:VEVENT
END:VCALENDAR
