BEGIN:VCALENDAR
VERSION:2.0
CALSCALE:GREGORIAN
BEGIN:VEVENT
DTSTAMP:20260420T093820
DTSTART:20231028T173000
DTEND:20231028T190000
SUMMARY:Chenin Blanc  Cabernet Franc From Around The World - Hybrid
DESCRIPTION:Event Info: https://www.localwineevents.com/view/tasting/chenin-blanc-cabernet-franc-from-around-the-world---hybrid/836263
LOCATION:
STATUS:CONFIRMED
SEQUENCE:0
TRANSP:OPAQUE
END:VEVENT
END:VCALENDAR
