BEGIN:VCALENDAR
VERSION:2.0
CALSCALE:GREGORIAN
BEGIN:VEVENT
DTSTAMP:20260420T093940
DTSTART:20231019T183000
DTEND:20231019T200000
SUMMARY:The Wines Of Virginia With Jay Youmans MW - Hybrid
DESCRIPTION:Event Info: https://www.localwineevents.com/view/tasting/the-wines-of-virginia-with-jay-youmans-mw---hybrid/836260
LOCATION:
STATUS:CONFIRMED
SEQUENCE:0
TRANSP:OPAQUE
END:VEVENT
END:VCALENDAR
