BEGIN:VCALENDAR
VERSION:2.0
CALSCALE:GREGORIAN
BEGIN:VEVENT
DTSTAMP:20260420T093959
DTSTART:20231026T193000
DTEND:20231026T203000
SUMMARY:Online Wine  Book Club Gathering With Marynissen Estates
DESCRIPTION:Event Info: https://www.localwineevents.com/view/tasting/online-wine-book-club-gathering-with-marynissen-estates/836120
LOCATION:
STATUS:CONFIRMED
SEQUENCE:0
TRANSP:OPAQUE
END:VEVENT
END:VCALENDAR
