BEGIN:VCALENDAR
VERSION:2.0
CALSCALE:GREGORIAN
BEGIN:VEVENT
DTSTAMP:20260420T093821
DTSTART:20240911T000000
DTEND:20240911T000000
SUMMARY:Lake Of Garda Experience. Food And Wine Tour To The Lake Of Garda - Italy
DESCRIPTION:Event Info: https://www.localwineevents.com/view/trip/lake-of-garda-experience-food-and-wine-tour-to-the-lake-of-garda---italy/836040
LOCATION:
STATUS:CONFIRMED
SEQUENCE:0
TRANSP:OPAQUE
END:VEVENT
END:VCALENDAR
