BEGIN:VCALENDAR
VERSION:2.0
CALSCALE:GREGORIAN
BEGIN:VEVENT
DTSTAMP:20260420T093931
DTSTART:20240911T000000
DTEND:20240911T000000
SUMMARY:Boutique Small Group Italian Wine And Food Tour Lake Of Garda Experience
DESCRIPTION:Event Info: https://www.localwineevents.com/view/trip/boutique-small-group-italian-wine-and-food-tour-lake-of-garda-experience/836039
LOCATION:
STATUS:CONFIRMED
SEQUENCE:0
TRANSP:OPAQUE
END:VEVENT
END:VCALENDAR
