BEGIN:VCALENDAR
VERSION:2.0
CALSCALE:GREGORIAN
BEGIN:VEVENT
DTSTAMP:20260420T094459
DTSTART:20240414T000000
DTEND:20240414T000000
SUMMARY:Luxe Winemaker Tour In The Cape Winelands Of South Africa
DESCRIPTION:Event Info: https://www.localwineevents.com/view/trip/luxe-winemaker-tour-in-the-cape-winelands-of-south-africa/835751
LOCATION:
STATUS:CONFIRMED
SEQUENCE:0
TRANSP:OPAQUE
END:VEVENT
END:VCALENDAR
