BEGIN:VCALENDAR
VERSION:2.0
CALSCALE:GREGORIAN
BEGIN:VEVENT
DTSTAMP:20260423T115637
DTSTART:20230923T120000
DTEND:20230923T170000
SUMMARY:Rock Stream Winery Fall Fest, Sat. Sept. 23rd, Free Admission
DESCRIPTION:Event Info: https://www.localwineevents.com/view/event/rock-stream-winery-fall-fest-sat-sept-23rd-free-admission/835708
LOCATION:Rock Stream Vineyards -- 162 Fir Tree Point Rd Rock Stream, NY 14878
STATUS:CONFIRMED
SEQUENCE:0
TRANSP:OPAQUE
END:VEVENT
END:VCALENDAR
