BEGIN:VCALENDAR
VERSION:2.0
CALSCALE:GREGORIAN
BEGIN:VEVENT
DTSTAMP:20260420T093926
DTSTART:20231011T190000
DTEND:20231011T210000
SUMMARY:Learnaboutwien Presents: Heroes Of Italian Wines
DESCRIPTION:Event Info: https://www.localwineevents.com/view/tasting/learnaboutwien-presents-heroes-of-italian-wines/834860
LOCATION:
STATUS:CONFIRMED
SEQUENCE:0
TRANSP:OPAQUE
END:VEVENT
END:VCALENDAR
