BEGIN:VCALENDAR
VERSION:2.0
CALSCALE:GREGORIAN
BEGIN:VEVENT
DTSTAMP:20260420T093925
DTSTART:20231020T183000
DTEND:20231020T213000
SUMMARY:Mountains  Sea: Explore The Diversity Of Uruguay And Argentina
DESCRIPTION:Event Info: https://www.localwineevents.com/view/tasting/mountains-sea-explore-the-diversity-of-uruguay-and-argentina/834830
LOCATION:
STATUS:CONFIRMED
SEQUENCE:0
TRANSP:OPAQUE
END:VEVENT
END:VCALENDAR
