BEGIN:VCALENDAR
VERSION:2.0
CALSCALE:GREGORIAN
BEGIN:VEVENT
DTSTAMP:20260420T093820
DTSTART:20231018T183000
DTEND:20231018T213000
SUMMARY:WSET Diploma Unit D1 Wine Production Online Live
DESCRIPTION:Event Info: https://www.localwineevents.com/view/class/wset-diploma-unit-d1-wine-production-online-live/834829
LOCATION:
STATUS:CONFIRMED
SEQUENCE:0
TRANSP:OPAQUE
END:VEVENT
END:VCALENDAR
