BEGIN:VCALENDAR
VERSION:2.0
CALSCALE:GREGORIAN
BEGIN:VEVENT
DTSTAMP:20260420T093923
DTSTART:20231007T173000
DTEND:20231007T190000
SUMMARY:Sustainability For Wine Lovers
DESCRIPTION:Event Info: https://www.localwineevents.com/view/class/sustainability-for-wine-lovers/834824
LOCATION:
STATUS:CONFIRMED
SEQUENCE:0
TRANSP:OPAQUE
END:VEVENT
END:VCALENDAR
