BEGIN:VCALENDAR
VERSION:2.0
CALSCALE:GREGORIAN
BEGIN:VEVENT
DTSTAMP:20260420T093929
DTSTART:20231020T100000
DTEND:20231021T170000
SUMMARY:SWE\'s 2023 Virtual Conference
DESCRIPTION:Event Info: https://www.localwineevents.com/view/tasting/swes-2023-virtual-conference/834685
LOCATION:
STATUS:CONFIRMED
SEQUENCE:0
TRANSP:OPAQUE
END:VEVENT
END:VCALENDAR
