BEGIN:VCALENDAR
VERSION:2.0
CALSCALE:GREGORIAN
BEGIN:VEVENT
DTSTAMP:20260420T093924
DTSTART:20231110T000000
DTEND:20231110T000000
SUMMARY:Wine Tasting 101
DESCRIPTION:Event Info: https://www.localwineevents.com/view/class/wine-tasting-101/834657
LOCATION:
STATUS:CONFIRMED
SEQUENCE:0
TRANSP:OPAQUE
END:VEVENT
END:VCALENDAR
