BEGIN:VCALENDAR
VERSION:2.0
CALSCALE:GREGORIAN
BEGIN:VEVENT
DTSTAMP:20260420T093928
DTSTART:20231030T120000
DTEND:20231030T120000
SUMMARY:WSET Level 1 Wine Online Course  Exam
DESCRIPTION:Event Info: https://www.localwineevents.com/view/class/wset-level-1-wine-online-course-exam/834340
LOCATION:
STATUS:CONFIRMED
SEQUENCE:0
TRANSP:OPAQUE
END:VEVENT
END:VCALENDAR
