BEGIN:VCALENDAR
VERSION:2.0
CALSCALE:GREGORIAN
BEGIN:VEVENT
DTSTAMP:20260423T120455
DTSTART:20230916T120000
DTEND:20230916T170000
SUMMARY:Leaves  Lobster On The Lawn 2023
DESCRIPTION:Event Info: https://www.localwineevents.com/view/event/leaves-lobster-on-the-lawn-2023/833288
LOCATION:Glenora Wine Cellars -- 5435 New York 14 Dundee, NY 14837
STATUS:CONFIRMED
SEQUENCE:0
TRANSP:OPAQUE
END:VEVENT
END:VCALENDAR
