BEGIN:VCALENDAR
VERSION:2.0
CALSCALE:GREGORIAN
BEGIN:VEVENT
DTSTAMP:20260423T104419
DTSTART:20230901T100000
DTEND:20230904T180000
SUMMARY:Labor Day Weekend Wine Sale
DESCRIPTION:Event Info: https://www.localwineevents.com/view/event/labor-day-weekend-wine-sale/833090
LOCATION:Three Brothers Wineries and Estates -- 623 Lerch Road Geneva, NY 14456
STATUS:CONFIRMED
SEQUENCE:0
TRANSP:OPAQUE
END:VEVENT
END:VCALENDAR
