BEGIN:VCALENDAR
VERSION:2.0
CALSCALE:GREGORIAN
BEGIN:VEVENT
DTSTAMP:20260420T095449
DTSTART:20240617T000000
DTEND:20240617T000000
SUMMARY:Insider\'s Tour To Champagne, France June 2024
DESCRIPTION:Event Info: https://www.localwineevents.com/view/trip/insiders-tour-to-champagne-france-june-2024/833076
LOCATION:
STATUS:CONFIRMED
SEQUENCE:0
TRANSP:OPAQUE
END:VEVENT
END:VCALENDAR
