BEGIN:VCALENDAR
VERSION:2.0
CALSCALE:GREGORIAN
BEGIN:VEVENT
DTSTAMP:20260420T094457
DTSTART:20240622T000000
DTEND:20240622T000000
SUMMARY:Unique Small Group Spain And Portugal Wine Tour 2024
DESCRIPTION:Event Info: https://www.localwineevents.com/view/trip/unique-small-group-spain-and-portugal-wine-tour-2024/832807
LOCATION:
STATUS:CONFIRMED
SEQUENCE:0
TRANSP:OPAQUE
END:VEVENT
END:VCALENDAR
