BEGIN:VCALENDAR
VERSION:2.0
CALSCALE:GREGORIAN
BEGIN:VEVENT
DTSTAMP:20260420T093923
DTSTART:20231113T120000
DTEND:20231113T150000
SUMMARY:WSET Level 2 Wine Online Course  Exam (13 Nov, 2023)
DESCRIPTION:Event Info: https://www.localwineevents.com/view/class/wset-level-2-wine-online-course-exam-13-nov-2023/832729
LOCATION:
STATUS:CONFIRMED
SEQUENCE:0
TRANSP:OPAQUE
END:VEVENT
END:VCALENDAR
