BEGIN:VCALENDAR
VERSION:2.0
CALSCALE:GREGORIAN
BEGIN:VEVENT
DTSTAMP:20260420T093942
DTSTART:20231016T120000
DTEND:20231016T150000
SUMMARY:WSET Level 2 Wine Online Course  Exam (16-Oct, 2023)
DESCRIPTION:Event Info: https://www.localwineevents.com/view/class/wset-level-2-wine-online-course-exam-16-oct-2023/832727
LOCATION:
STATUS:CONFIRMED
SEQUENCE:0
TRANSP:OPAQUE
END:VEVENT
END:VCALENDAR
