BEGIN:VCALENDAR
VERSION:2.0
CALSCALE:GREGORIAN
BEGIN:VEVENT
DTSTAMP:20260420T093925
DTSTART:20240331T000000
DTEND:20240331T000000
SUMMARY:The Winemaker Tours; An Insider\'s Tour Of The Winelands In South Africa
DESCRIPTION:Event Info: https://www.localwineevents.com/view/trip/the-winemaker-tours-an-insiders-tour-of-the-winelands-in-south-africa/832645
LOCATION:
STATUS:CONFIRMED
SEQUENCE:0
TRANSP:OPAQUE
END:VEVENT
END:VCALENDAR
