BEGIN:VCALENDAR
VERSION:2.0
CALSCALE:GREGORIAN
BEGIN:VEVENT
DTSTAMP:20260420T093939
DTSTART:20231016T000000
DTEND:20231016T000000
SUMMARY:Germany  Alsace: 6 Day In Depth Discovery Of Wines  Cuisines
DESCRIPTION:Event Info: https://www.localwineevents.com/view/trip/germany-alsace-6-day-in-depth-discovery-of-wines-cuisines/832190
LOCATION:
STATUS:CONFIRMED
SEQUENCE:0
TRANSP:OPAQUE
END:VEVENT
END:VCALENDAR
