BEGIN:VCALENDAR
VERSION:2.0
CALSCALE:GREGORIAN
BEGIN:VEVENT
DTSTAMP:20260421T004103
DTSTART:20230729T201500
DTEND:20230729T220000
SUMMARY:Wine-In Movie On The Patio Night
DESCRIPTION:Event Info: https://www.localwineevents.com/view/event/wine-in-movie-on-the-patio-night/830403
LOCATION:Fence Stile Vineyards  Winery -- 31010 W. 124th St Excelsior Springs, Missouri 64024
STATUS:CONFIRMED
SEQUENCE:0
TRANSP:OPAQUE
END:VEVENT
END:VCALENDAR
