BEGIN:VCALENDAR
VERSION:2.0
CALSCALE:GREGORIAN
BEGIN:VEVENT
DTSTAMP:20260421T004119
DTSTART:20230826T140000
DTEND:20230826T160000
SUMMARY:Live Original Music -Kristie Lynn At Fence Stile
DESCRIPTION:Event Info: https://www.localwineevents.com/view/event/live-original-music--kristie-lynn-at-fence-stile/830401
LOCATION:Fence Stile Vineyards, Winery  Distillery -- 31010 W. 124th St. Excelsior Springs, MO 64024
STATUS:CONFIRMED
SEQUENCE:0
TRANSP:OPAQUE
END:VEVENT
END:VCALENDAR
