BEGIN:VCALENDAR
VERSION:2.0
CALSCALE:GREGORIAN
BEGIN:VEVENT
DTSTAMP:20260420T094000
DTSTART:20241113T000000
DTEND:20241113T000000
SUMMARY:Group Wine Lover\'s Danube River Cruise- Nov 13, 2024- Starting At $2673!
DESCRIPTION:Event Info: https://www.localwineevents.com/view/trip/group-wine-lovers-danube-river-cruise--nov-13-2024--starting-at-2673/829887
LOCATION:
STATUS:CONFIRMED
SEQUENCE:0
TRANSP:OPAQUE
END:VEVENT
END:VCALENDAR
