BEGIN:VCALENDAR
VERSION:2.0
CALSCALE:GREGORIAN
BEGIN:VEVENT
DTSTAMP:20260420T093959
DTSTART:20240105T120000
DTEND:20240118T120000
SUMMARY:FRENCH WINE 101 OPEN ENROLLMENT: 8 Wks $99.  Class Dates:  Jan 16 - Mar 5
DESCRIPTION:Event Info: https://www.localwineevents.com/view/class/french-wine-101-open-enrollment-8-wks-99-class-dates-jan-16---mar-5/829859
LOCATION:
STATUS:CONFIRMED
SEQUENCE:0
TRANSP:OPAQUE
END:VEVENT
END:VCALENDAR
