BEGIN:VCALENDAR
VERSION:2.0
CALSCALE:GREGORIAN
BEGIN:VEVENT
DTSTAMP:20260420T093939
DTSTART:20240105T000000
DTEND:20240118T000000
SUMMARY:WINES OF SPAIN OPEN ENROLLMENT: 8 Wks $99.  Class Dates:  Jan 18- Mar 7
DESCRIPTION:Event Info: https://www.localwineevents.com/view/class/wines-of-spain-open-enrollment-8-wks-99-class-dates-jan-18--mar-7/829852
LOCATION:
STATUS:CONFIRMED
SEQUENCE:0
TRANSP:OPAQUE
END:VEVENT
END:VCALENDAR
