BEGIN:VCALENDAR
VERSION:2.0
CALSCALE:GREGORIAN
BEGIN:VEVENT
DTSTAMP:20260421T004221
DTSTART:20230721T173000
DTEND:20230721T190000
SUMMARY:5:30 PM Winery, Wine Cave Tour And Candlelit Tasting
DESCRIPTION:Event Info: https://www.localwineevents.com/view/event/530-pm-winery-wine-cave-tour-and-candlelit-tasting/829269
LOCATION:Fence Stile Vineyards, Winery  Distillery -- 31010 W. 124th St. Excelsior Springs, MO 64024
STATUS:CONFIRMED
SEQUENCE:0
TRANSP:OPAQUE
END:VEVENT
END:VCALENDAR
