BEGIN:VCALENDAR
VERSION:2.0
CALSCALE:GREGORIAN
BEGIN:VEVENT
DTSTAMP:20260421T004156
DTSTART:20230716T120000
DTEND:20230716T133000
SUMMARY:Noon Winery, Wine Cave Tour And Candlelit Tasting
DESCRIPTION:Event Info: https://www.localwineevents.com/view/event/noon-winery-wine-cave-tour-and-candlelit-tasting/829267
LOCATION:Fence Stile Vineyards, Winery  Distillery -- 31010 W. 124th St. Excelsior Springs, MO 64024
STATUS:CONFIRMED
SEQUENCE:0
TRANSP:OPAQUE
END:VEVENT
END:VCALENDAR
