BEGIN:VCALENDAR
VERSION:2.0
CALSCALE:GREGORIAN
BEGIN:VEVENT
DTSTAMP:20260421T004119
DTSTART:20230715T170000
DTEND:20230715T183000
SUMMARY:5:00 PM Winery, Wine Cave Tour And Candlelit Tasting
DESCRIPTION:Event Info: https://www.localwineevents.com/view/event/500-pm-winery-wine-cave-tour-and-candlelit-tasting/829265
LOCATION:Fence Stile Vineyards, Winery  Distillery -- 31010 W. 124th St. Excelsior Springs, MO 64024
STATUS:CONFIRMED
SEQUENCE:0
TRANSP:OPAQUE
END:VEVENT
END:VCALENDAR
