BEGIN:VCALENDAR
VERSION:2.0
CALSCALE:GREGORIAN
BEGIN:VEVENT
DTSTAMP:20260421T003245
DTSTART:20230714T140000
DTEND:20230714T153000
SUMMARY:2 PM Winery, Wine Cave Tour And Candlelit Tasting
DESCRIPTION:Event Info: https://www.localwineevents.com/view/event/2-pm-winery-wine-cave-tour-and-candlelit-tasting/829211
LOCATION:Fence Stile Vineyards, Winery  Distillery -- 31010 W. 124th St. Excelsior Springs, MO 64024
STATUS:CONFIRMED
SEQUENCE:0
TRANSP:OPAQUE
END:VEVENT
END:VCALENDAR
