BEGIN:VCALENDAR
VERSION:2.0
CALSCALE:GREGORIAN
BEGIN:VEVENT
DTSTAMP:20260421T004530
DTSTART:20230708T140000
DTEND:20230708T160000
SUMMARY:Live Original Music -Jim Thomas At Fence Stile
DESCRIPTION:Event Info: https://www.localwineevents.com/view/event/live-original-music--jim-thomas-at-fence-stile/829141
LOCATION:Fence Stile Vineyards, Winery  Distillery -- 31010 W. 124th St. Excelsior Springs, MO 64024
STATUS:CONFIRMED
SEQUENCE:0
TRANSP:OPAQUE
END:VEVENT
END:VCALENDAR
