BEGIN:VCALENDAR
VERSION:2.0
CALSCALE:GREGORIAN
BEGIN:VEVENT
DTSTAMP:20260420T094000
DTSTART:20240526T000000
DTEND:20240526T000000
SUMMARY:Fast Cars And Slow Food - Tuscany  Emilia Romagna
DESCRIPTION:Event Info: https://www.localwineevents.com/view/trip/fast-cars-and-slow-food---tuscany-emilia-romagna/828976
LOCATION:
STATUS:CONFIRMED
SEQUENCE:0
TRANSP:OPAQUE
END:VEVENT
END:VCALENDAR
