BEGIN:VCALENDAR
VERSION:2.0
CALSCALE:GREGORIAN
BEGIN:VEVENT
DTSTAMP:20260420T100741
DTSTART:20230910T130000
DTEND:20230910T180000
SUMMARY:Das Weinfest - The Original German Wine Festival
DESCRIPTION:Event Info: https://www.localwineevents.com/view/event/das-weinfest---the-original-german-wine-festival/828506
LOCATION:Plattduetsche Park -- 1132 Hempstead Turnpike Franklin Square, NY 11010
STATUS:CONFIRMED
SEQUENCE:0
TRANSP:OPAQUE
END:VEVENT
END:VCALENDAR
