BEGIN:VCALENDAR
VERSION:2.0
CALSCALE:GREGORIAN
BEGIN:VEVENT
DTSTAMP:20260420T094457
DTSTART:20240501T000000
DTEND:20240501T000000
SUMMARY:Cooking In A Castle In Northern Italy-Depart Any Day
DESCRIPTION:Event Info: https://www.localwineevents.com/view/trip/cooking-in-a-castle-in-northern-italy-depart-any-day/827159
LOCATION:
STATUS:CONFIRMED
SEQUENCE:0
TRANSP:OPAQUE
END:VEVENT
END:VCALENDAR
