BEGIN:VCALENDAR
VERSION:2.0
CALSCALE:GREGORIAN
BEGIN:VEVENT
DTSTAMP:20260420T093931
DTSTART:20240425T000000
DTEND:20240425T000000
SUMMARY:Taste Of Bordeaux Wine River Cruise -Springtime In France
DESCRIPTION:Event Info: https://www.localwineevents.com/view/trip/taste-of-bordeaux-wine-river-cruise--springtime-in-france/826010
LOCATION:
STATUS:CONFIRMED
SEQUENCE:0
TRANSP:OPAQUE
END:VEVENT
END:VCALENDAR
