BEGIN:VCALENDAR
VERSION:2.0
CALSCALE:GREGORIAN
BEGIN:VEVENT
DTSTAMP:20260423T115637
DTSTART:20230616T180000
DTEND:20230616T200000
SUMMARY:Book Signing With Sommelier M. Cimino
DESCRIPTION:Event Info: https://www.localwineevents.com/view/event/book-signing-with-sommelier-m-cimino/825955
LOCATION:Chateau LaFayette Reneau -- 5081 State Rte. 414 Hector, NY 14841
STATUS:CONFIRMED
SEQUENCE:0
TRANSP:OPAQUE
END:VEVENT
END:VCALENDAR
