BEGIN:VCALENDAR
VERSION:2.0
CALSCALE:GREGORIAN
BEGIN:VEVENT
DTSTAMP:20260421T092256
DTSTART:20230527T114500
DTEND:20230529T143000
SUMMARY:Picnic At The Pond
DESCRIPTION:Event Info: https://www.localwineevents.com/view/event/picnic-at-the-pond/825248
LOCATION:Ram\'s Gate Winery -- 28700 Arnold Drive Sonoma, CA 95476
STATUS:CONFIRMED
SEQUENCE:0
TRANSP:OPAQUE
END:VEVENT
END:VCALENDAR
