BEGIN:VCALENDAR
VERSION:2.0
CALSCALE:GREGORIAN
BEGIN:VEVENT
DTSTAMP:20260423T111842
DTSTART:20230415T110000
DTEND:20230415T170000
SUMMARY:Rock Stream Winery Spring Music  Food Fest, Sat. April 15th, Free Admiss.
DESCRIPTION:Event Info: https://www.localwineevents.com/view/event/rock-stream-winery-spring-music-food-fest-sat-april-15th-free-admiss/823891
LOCATION:Rock Stream Vineyards -- 162 Fir Tree Point Rd Rock Stream, NY 14878
STATUS:CONFIRMED
SEQUENCE:0
TRANSP:OPAQUE
END:VEVENT
END:VCALENDAR
