BEGIN:VCALENDAR
VERSION:2.0
CALSCALE:GREGORIAN
BEGIN:VEVENT
DTSTAMP:20260421T042418
DTSTART:20230429T180000
DTEND:20230429T210000
SUMMARY:From Grape To Glass - Wine Walk And Farmers Market 2023
DESCRIPTION:Event Info: https://www.localwineevents.com/view/event/from-grape-to-glass---wine-walk-and-farmers-market-2023/823629
LOCATION:From Grape to Glass - Wine Walk and Farmers Market 2023 -- Main and Market Streets Brockport, NY 14420
STATUS:CONFIRMED
SEQUENCE:0
TRANSP:OPAQUE
END:VEVENT
END:VCALENDAR
