BEGIN:VCALENDAR
VERSION:2.0
CALSCALE:GREGORIAN
BEGIN:VEVENT
DTSTAMP:20260420T093930
DTSTART:20231027T000000
DTEND:20231027T000000
SUMMARY:Pleasure Of Portugal With Porto, Douro Valley, And Sintra-DEPARTS ALL YEAR
DESCRIPTION:Event Info: https://www.localwineevents.com/view/trip/pleasure-of-portugal-with-porto-douro-valley-and-sintra-departs-all-year/822871
LOCATION:
STATUS:CONFIRMED
SEQUENCE:0
TRANSP:OPAQUE
END:VEVENT
END:VCALENDAR
