BEGIN:VCALENDAR
VERSION:2.0
CALSCALE:GREGORIAN
BEGIN:VEVENT
DTSTAMP:20260423T115728
DTSTART:20230401T103000
DTEND:20230401T123000
SUMMARY:Easter Egg Hunt For Kids 21 And Over
DESCRIPTION:Event Info: https://www.localwineevents.com/view/event/easter-egg-hunt-for-kids-21-and-over/821139
LOCATION:Hazlitt 1852 Vineyards -- 5712 State Route 414 Hector, New York 14841
STATUS:CONFIRMED
SEQUENCE:0
TRANSP:OPAQUE
END:VEVENT
END:VCALENDAR
