BEGIN:VCALENDAR
VERSION:2.0
CALSCALE:GREGORIAN
BEGIN:VEVENT
DTSTAMP:20260423T102238
DTSTART:20230318T120000
DTEND:20230318T160000
SUMMARY:Burning Of The Canes @ Fox Run Vineyards
DESCRIPTION:Event Info: https://www.localwineevents.com/view/event/burning-of-the-canes-fox-run-vineyards/819734
LOCATION:Fox Run Vineyards -- 670 Route 14 Penn Yan, NY 14527
STATUS:CONFIRMED
SEQUENCE:0
TRANSP:OPAQUE
END:VEVENT
END:VCALENDAR
