BEGIN:VCALENDAR
VERSION:2.0
CALSCALE:GREGORIAN
BEGIN:VEVENT
DTSTAMP:20260420T093959
DTSTART:20231018T000000
DTEND:20231018T000000
SUMMARY:Wines Of Hungary, Slovenia And Austria
DESCRIPTION:Event Info: https://www.localwineevents.com/view/trip/wines-of-hungary-slovenia-and-austria/819036
LOCATION:
STATUS:CONFIRMED
SEQUENCE:0
TRANSP:OPAQUE
END:VEVENT
END:VCALENDAR
