BEGIN:VCALENDAR
VERSION:2.0
CALSCALE:GREGORIAN
BEGIN:VEVENT
DTSTAMP:20260420T094033
DTSTART:20231015T000000
DTEND:20231015T000000
SUMMARY:Explore Italy\'s Piedmont Wine Region
DESCRIPTION:Event Info: https://www.localwineevents.com/view/trip/explore-italys-piedmont-wine-region/818777
LOCATION:
STATUS:CONFIRMED
SEQUENCE:0
TRANSP:OPAQUE
END:VEVENT
END:VCALENDAR
