BEGIN:VCALENDAR
VERSION:2.0
CALSCALE:GREGORIAN
BEGIN:VEVENT
DTSTAMP:20260421T004227
DTSTART:20240211T000000
DTEND:20240211T000000
SUMMARY:Wine Safari To South Africa, Fence Stile Winery
DESCRIPTION:Event Info: https://www.localwineevents.com/view/trip/wine-safari-to-south-africa-fence-stile-winery/816956
LOCATION:
STATUS:CONFIRMED
SEQUENCE:0
TRANSP:OPAQUE
END:VEVENT
END:VCALENDAR
