BEGIN:VCALENDAR
VERSION:2.0
CALSCALE:GREGORIAN
BEGIN:VEVENT
DTSTAMP:20260423T101600
DTSTART:20221218T100000
DTEND:20221218T120000
SUMMARY:Discover New Vines At Once Finger Lakes
DESCRIPTION:Event Info: https://www.localwineevents.com/view/event/discover-new-vines-at-once-finger-lakes/815360
LOCATION:Once Finger Lakes -- 655 New York 14 Penn Yan, NY 14527
STATUS:CONFIRMED
SEQUENCE:0
TRANSP:OPAQUE
END:VEVENT
END:VCALENDAR
