BEGIN:VCALENDAR
VERSION:2.0
CALSCALE:GREGORIAN
BEGIN:VEVENT
DTSTAMP:20260423T104407
DTSTART:20221209T180000
DTEND:20221209T193000
SUMMARY:Food  Wine Pairing: Celebrate With Charcuterie!
DESCRIPTION:Event Info: https://www.localwineevents.com/view/event/food-wine-pairing-celebrate-with-charcuterie/814461
LOCATION:Point of the Bluff Vineyards -- 10489 County Road 76 Hammondsport, NY 14840
STATUS:CONFIRMED
SEQUENCE:0
TRANSP:OPAQUE
END:VEVENT
END:VCALENDAR
